BEGIN:VCALENDAR
VERSION:2.0
PRODID:-//parkresidencelavilla.com - ECPv6.15.20//NONSGML v1.0//EN
CALSCALE:GREGORIAN
METHOD:PUBLISH
X-WR-CALNAME:parkresidencelavilla.com
X-ORIGINAL-URL:https://parkresidencelavilla.com
X-WR-CALDESC:Veranstaltungen für parkresidencelavilla.com
REFRESH-INTERVAL;VALUE=DURATION:PT1H
X-Robots-Tag:noindex
X-PUBLISHED-TTL:PT1H
BEGIN:VTIMEZONE
TZID:Europe/Berlin
BEGIN:DAYLIGHT
TZOFFSETFROM:+0100
TZOFFSETTO:+0200
TZNAME:CEST
DTSTART:20220327T010000
END:DAYLIGHT
BEGIN:STANDARD
TZOFFSETFROM:+0200
TZOFFSETTO:+0100
TZNAME:CET
DTSTART:20221030T010000
END:STANDARD
BEGIN:DAYLIGHT
TZOFFSETFROM:+0100
TZOFFSETTO:+0200
TZNAME:CEST
DTSTART:20230326T010000
END:DAYLIGHT
BEGIN:STANDARD
TZOFFSETFROM:+0200
TZOFFSETTO:+0100
TZNAME:CET
DTSTART:20231029T010000
END:STANDARD
BEGIN:DAYLIGHT
TZOFFSETFROM:+0100
TZOFFSETTO:+0200
TZNAME:CEST
DTSTART:20240331T010000
END:DAYLIGHT
BEGIN:STANDARD
TZOFFSETFROM:+0200
TZOFFSETTO:+0100
TZNAME:CET
DTSTART:20241027T010000
END:STANDARD
END:VTIMEZONE
BEGIN:VEVENT
DTSTART;TZID=Europe/Berlin:20230929T080000
DTEND;TZID=Europe/Berlin:20231008T170000
DTSTAMP:20260425T184043
CREATED:20220130T155602Z
LAST-MODIFIED:20221101T092848Z
UID:1786-1695974400-1696784400@parkresidencelavilla.com
SUMMARY:Trüffelfest 2023
DESCRIPTION:Das Trüffelfest in Tignale findet normalerweise am letzten September- und ersten Oktoberwochenende statt. \nInformationen findet man hier.
URL:https://parkresidencelavilla.com/event/trueffelfest-2022/
LOCATION:Tignale\, Tignale\, Brescia\, 25080\, Italien
ATTACH;FMTTYPE=image/jpeg:https://parkresidencelavilla.com/wp-content/uploads/2022/01/trueffel_gericht.jpg
ORGANIZER;CN="Tourismusb%C3%BCro Tignale":MAILTO:info@tignale.org
END:VEVENT
END:VCALENDAR